BEGIN:VCALENDAR
VERSION:2.0
PRODID:-//wp-events-plugin.com//7.2.3.1//EN
BEGIN:VEVENT
UID:35@mail.gi.edu.co
DTSTART;TZID=America/Bogota:20250607T080000
DTEND;TZID=America/Bogota:20250607T120000
DTSTAMP:20240903T161339Z
URL:https://mail.gi.edu.co/events/act-of-graduation-class-2025-ceremonia-d
 e-graduacion-clase-2025/
SUMMARY:Act of Graduation Class 2025 / Ceremonia de graduación clase 2025
DESCRIPTION:
CATEGORIES:Secondary
END:VEVENT
BEGIN:VTIMEZONE
TZID:America/Bogota
X-LIC-LOCATION:America/Bogota
BEGIN:STANDARD
DTSTART:20240607T080000
TZOFFSETFROM:-0500
TZOFFSETTO:-0500
TZNAME:-05
END:STANDARD
END:VTIMEZONE
END:VCALENDAR