BEGIN:VCALENDAR
VERSION:2.0
PRODID:-//wp-events-plugin.com//7.2.3.1//EN
BEGIN:VEVENT
UID:86@mail.gi.edu.co
DTSTART;TZID=America/Bogota;VALUE=DATE:20241016
DTEND;TZID=America/Bogota;VALUE=DATE:20241019
DTSTAMP:20240910T200259Z
URL:http://mail.gi.edu.co/events/quindian-week-semana-de-la-quindianidad/
SUMMARY:Quindian Week / Semana de la quindianidad
DESCRIPTION:
CATEGORIES:Elementary
END:VEVENT
BEGIN:VTIMEZONE
TZID:America/Bogota
X-LIC-LOCATION:America/Bogota
BEGIN:STANDARD
DTSTART:20231017T000000
TZOFFSETFROM:-0500
TZOFFSETTO:-0500
TZNAME:-05
END:STANDARD
END:VTIMEZONE
END:VCALENDAR