BEGIN:VCALENDAR
VERSION:2.0
PRODID:-//wp-events-plugin.com//7.2.3.1//EN
BEGIN:VEVENT
UID:33@mail.gi.edu.co
DTSTART;TZID=America/Bogota;VALUE=DATE:20250502
DTEND;TZID=America/Bogota;VALUE=DATE:20250503
DTSTAMP:20240903T161105Z
URL:http://mail.gi.edu.co/events/pd-day-no-classes-training-day-dia-de-cap
 acitacion-academica-sin-clases-para-estudiantes-2/
SUMMARY:PD Day - no classes - Training Day / Día de capacitación académi
 ca - sin clases para estudiantes
DESCRIPTION:
CATEGORIES:General
END:VEVENT
BEGIN:VTIMEZONE
TZID:America/Bogota
X-LIC-LOCATION:America/Bogota
BEGIN:STANDARD
DTSTART:20240502T000000
TZOFFSETFROM:-0500
TZOFFSETTO:-0500
TZNAME:-05
END:STANDARD
END:VTIMEZONE
END:VCALENDAR