BEGIN:VCALENDAR
VERSION:2.0
PRODID:-//wp-events-plugin.com//7.2.3.1//EN
BEGIN:VEVENT
UID:159@mail.gi.edu.co
DTSTART;TZID=America/Bogota;VALUE=DATE:20250411
DTEND;TZID=America/Bogota;VALUE=DATE:20250412
DTSTAMP:20250409T171909Z
URL:http://mail.gi.edu.co/events/mini-world-cup-for-4th-to-12th-mundialito
 -por-casa-de-4-a-12/
SUMMARY:Mini World Cup for 4th to 12th / Mundialito por casa de 4° a 12°
DESCRIPTION:
CATEGORIES:General
END:VEVENT
BEGIN:VTIMEZONE
TZID:America/Bogota
X-LIC-LOCATION:America/Bogota
BEGIN:STANDARD
DTSTART:20240411T000000
TZOFFSETFROM:-0500
TZOFFSETTO:-0500
TZNAME:-05
END:STANDARD
END:VTIMEZONE
END:VCALENDAR