BEGIN:VCALENDAR
VERSION:2.0
PRODID:-//wp-events-plugin.com//7.2.3.1//EN
BEGIN:VEVENT
UID:98@mail.gi.edu.co
DTSTART;TZID=America/Bogota;VALUE=DATE:20240904
DTEND;TZID=America/Bogota;VALUE=DATE:20240907
DTSTAMP:20240910T202008Z
URL:http://mail.gi.edu.co/events/inter-club-soccer-festival-festival-inter
 clubes-de-futbol/
SUMMARY:Inter-Club Soccer Festival / Festival interclubes de fútbol
DESCRIPTION:
CATEGORIES:Sports
END:VEVENT
BEGIN:VTIMEZONE
TZID:America/Bogota
X-LIC-LOCATION:America/Bogota
BEGIN:STANDARD
DTSTART:20230905T000000
TZOFFSETFROM:-0500
TZOFFSETTO:-0500
TZNAME:-05
END:STANDARD
END:VTIMEZONE
END:VCALENDAR