BEGIN:VCALENDAR
VERSION:2.0
PRODID:-//wp-events-plugin.com//7.2.3.1//EN
BEGIN:VEVENT
UID:168@mail.gi.edu.co
DTSTART;TZID=America/Bogota:20250409T020000
DTEND;TZID=America/Bogota:20250409T030000
DTSTAMP:20250409T172752Z
URL:http://mail.gi.edu.co/events/growth-hour-20/
SUMMARY:Growth Hour
DESCRIPTION:
CATEGORIES:Grow Hour
END:VEVENT
BEGIN:VTIMEZONE
TZID:America/Bogota
X-LIC-LOCATION:America/Bogota
BEGIN:STANDARD
DTSTART:20240409T020000
TZOFFSETFROM:-0500
TZOFFSETTO:-0500
TZNAME:-05
END:STANDARD
END:VTIMEZONE
END:VCALENDAR