BEGIN:VCALENDAR
VERSION:2.0
PRODID:-//wp-events-plugin.com//7.2.3.1//EN
BEGIN:VEVENT
UID:167@mail.gi.edu.co
DTSTART;TZID=America/Bogota:20250501T000000
DTEND;TZID=America/Bogota:20250503T000000
DTSTAMP:20250409T171323Z
URL:http://mail.gi.edu.co/events/football-mini-world-cup-club-campestre-pe
 reira-2014-category-mundialito-de-futbol-club-campestre-pereira-categoria-
 2014/
SUMMARY:Football Mini World Cup Club Campestre Pereira - 2014 Category / Mu
 ndialito de fútbol Club Campestre Pereira - Categoría 2014
DESCRIPTION:
CATEGORIES:Elementary
END:VEVENT
BEGIN:VTIMEZONE
TZID:America/Bogota
X-LIC-LOCATION:America/Bogota
BEGIN:STANDARD
DTSTART:20240501T000000
TZOFFSETFROM:-0500
TZOFFSETTO:-0500
TZNAME:-05
END:STANDARD
END:VTIMEZONE
END:VCALENDAR