BEGIN:VCALENDAR
VERSION:2.0
PRODID:-//wp-events-plugin.com//7.2.3.1//EN
BEGIN:VEVENT
UID:43@mail.gi.edu.co
DTSTART;TZID=America/Bogota:20250812T070500
DTEND;TZID=America/Bogota:20250812T151500
DTSTAMP:20240903T162102Z
URL:http://mail.gi.edu.co/events/first-day-of-class-for-preschool-primer-d
 ia-de-clases-en-preescolar/
SUMMARY:First day of class for preschool / Primer día de clases en preesco
 lar
DESCRIPTION:
CATEGORIES:General,Preschool
END:VEVENT
BEGIN:VTIMEZONE
TZID:America/Bogota
X-LIC-LOCATION:America/Bogota
BEGIN:STANDARD
DTSTART:20240812T070500
TZOFFSETFROM:-0500
TZOFFSETTO:-0500
TZNAME:-05
END:STANDARD
END:VTIMEZONE
END:VCALENDAR