BEGIN:VCALENDAR
VERSION:2.0
PRODID:-//wp-events-plugin.com//7.2.3.1//EN
BEGIN:VEVENT
UID:157@mail.gi.edu.co
DTSTART;TZID=America/Bogota:20250411T080000
DTEND;TZID=America/Bogota:20250411T110000
DTSTAMP:20250409T164036Z
URL:http://mail.gi.edu.co/events/field-trip-k3-salida-pedagogica-kinder-3/
SUMMARY:Field Trip K3 - Salida pedagógica kinder 3
DESCRIPTION:
CATEGORIES:Preschool
END:VEVENT
BEGIN:VTIMEZONE
TZID:America/Bogota
X-LIC-LOCATION:America/Bogota
BEGIN:STANDARD
DTSTART:20240411T080000
TZOFFSETFROM:-0500
TZOFFSETTO:-0500
TZNAME:-05
END:STANDARD
END:VTIMEZONE
END:VCALENDAR