BEGIN:VCALENDAR
VERSION:2.0
PRODID:-//wp-events-plugin.com//7.2.3.1//EN
BEGIN:VEVENT
UID:50@mail.gi.edu.co
DTSTART;TZID=America/Bogota;VALUE=DATE:20240928
DTEND;TZID=America/Bogota;VALUE=DATE:20240929
DTSTAMP:20240903T200926Z
URL:http://mail.gi.edu.co/events/festival-accas-primaria-colegio-granadino
 /
SUMMARY:ACCAS Festival Elementary Granadino School / Festival ACCAS Primari
 a (Colegio Granadino)
DESCRIPTION:
CATEGORIES:Sports
END:VEVENT
BEGIN:VTIMEZONE
TZID:America/Bogota
X-LIC-LOCATION:America/Bogota
BEGIN:STANDARD
DTSTART:20230929T000000
TZOFFSETFROM:-0500
TZOFFSETTO:-0500
TZNAME:-05
END:STANDARD
END:VTIMEZONE
END:VCALENDAR