BEGIN:VCALENDAR
VERSION:2.0
PRODID:-//wp-events-plugin.com//7.2.3.1//EN
BEGIN:VEVENT
UID:160@mail.gi.edu.co
DTSTART;TZID=America/Bogota;VALUE=DATE:20250422
DTEND;TZID=America/Bogota;VALUE=DATE:20250423
DTSTAMP:20250409T164622Z
URL:http://mail.gi.edu.co/events/earth-day-dia-de-la-tierra/
SUMMARY:Earth Day / Día de la tierra
DESCRIPTION:
CATEGORIES:General
END:VEVENT
BEGIN:VTIMEZONE
TZID:America/Bogota
X-LIC-LOCATION:America/Bogota
BEGIN:STANDARD
DTSTART:20240422T000000
TZOFFSETFROM:-0500
TZOFFSETTO:-0500
TZNAME:-05
END:STANDARD
END:VTIMEZONE
END:VCALENDAR