BEGIN:VCALENDAR
VERSION:2.0
PRODID:-//wp-events-plugin.com//7.2.3.1//EN
BEGIN:VEVENT
UID:53@mail.gi.edu.co
DTSTART;TZID=America/Bogota:20240920T080000
DTEND;TZID=America/Bogota:20240920T120000
DTSTAMP:20240902T205202Z
URL:http://mail.gi.edu.co/events/conversatorio-escritor-o-osorio/
SUMMARY:Author guest speaker for grades 10-12 / Conversatorio de escritor i
 nvitado para grados 10-12
DESCRIPTION:
CATEGORIES:Secondary
END:VEVENT
BEGIN:VTIMEZONE
TZID:America/Bogota
X-LIC-LOCATION:America/Bogota
BEGIN:STANDARD
DTSTART:20230921T080000
TZOFFSETFROM:-0500
TZOFFSETTO:-0500
TZNAME:-05
END:STANDARD
END:VTIMEZONE
END:VCALENDAR