BEGIN:VCALENDAR
VERSION:2.0
PRODID:-//wp-events-plugin.com//7.2.3.1//EN
BEGIN:VEVENT
UID:83@mail.gi.edu.co
DTSTART;TZID=America/Bogota;VALUE=DATE:20250522
DTEND;TZID=America/Bogota;VALUE=DATE:20250525
DTSTAMP:20240903T175104Z
URL:http://mail.gi.edu.co/events/aacbi-pre-childrens-cup-at-gi-school-copa
 -aacbi-preinfantil-en-el-gi-school/
SUMMARY:AACBI Pre-Children's Cup at GI School / Copa AACBI Preinfantil en e
 l GI School
DESCRIPTION:
CATEGORIES:Sports
END:VEVENT
BEGIN:VTIMEZONE
TZID:America/Bogota
X-LIC-LOCATION:America/Bogota
BEGIN:STANDARD
DTSTART:20240522T000000
TZOFFSETFROM:-0500
TZOFFSETTO:-0500
TZNAME:-05
END:STANDARD
END:VTIMEZONE
END:VCALENDAR