BEGIN:VCALENDAR
VERSION:2.0
PRODID:-//wp-events-plugin.com//7.2.3.1//EN
BEGIN:VEVENT
UID:81@mail.gi.edu.co
DTSTART;TZID=America/Bogota;VALUE=DATE:20250424
DTEND;TZID=America/Bogota;VALUE=DATE:20250427
DTSTAMP:20240903T174829Z
URL:http://mail.gi.edu.co/events/aacbi-childrens-cup-in-english-school-bog
 ota-copa-aacbi-infantil-en-el-english-school-bogota/
SUMMARY:AACBI Children's Cup in English School (Bogotá) / Copa AACBI infan
 til en el English School (Bogotá)
DESCRIPTION:
CATEGORIES:Sports
END:VEVENT
BEGIN:VTIMEZONE
TZID:America/Bogota
X-LIC-LOCATION:America/Bogota
BEGIN:STANDARD
DTSTART:20240424T000000
TZOFFSETFROM:-0500
TZOFFSETTO:-0500
TZNAME:-05
END:STANDARD
END:VTIMEZONE
END:VCALENDAR